Workbook

Sheet Instrucciones
B1: Plantilla de registro de jornada
B2: Gratuita, de Conecta Tempo (conectatempo.com)
B4: Cómo usarla
B5: 1. En la hoja Registro, escribe el nombre de tu empresa (B2) y la jornada diaria pactada en horas (B3).
B6: 2. Cada día, añade una fila por trabajador: fecha, nombre, hora de entrada, hora de salida y minutos de pausa.
B7: 3. Las columnas F y G se calculan solas. No las borres: ya llevan la fórmula hasta la fila 505.
B8: 4. En la hoja Resumen, escribe los nombres de tus empleados (iguales que en Registro) y verás sus totales.
B9: 5. La fila 6 de Registro y el nombre de ejemplo de Resumen son un ejemplo: bórralos o sustitúyelos por tus datos.
B11: Qué significa cada color
B12: Celdas con fondo crema y texto azul: son las que tienes que rellenar tú.
B13: Celdas con texto negro: se calculan solas, no las toques.
B15: Importante: límites de esta plantilla
... B22: Prueba Conecta Tempo gratis durante 1 mes en conectatempo.com. Desde 14,90 € al mes más IVA para hasta 10 empleados, sin permanencia.

Sheet Registro
A1: Registro de jornada
A2: Empresa: | B2: Nombre de tu empresa
A3: Jornada diaria pactada (horas): | B3: 8 | C3: Supuesto editable. Se usa para calcular la columna G.
A5: Fecha | B5: Empleado | C5: Hora de entrada | D5: Hora de salida | E5: Pausa (min) | F5: Horas trabajadas | G5: Horas sobre jornada pactada | H5: Observaciones
A6: 46330 | B6: Nombre Apellido (ejemplo) | C6: 0.33333333 | D6: 0.70833333 | E6: 30 | F6: =IF(OR(C6="",D6=""),"",ROUND(MOD(D6-C6,1)*24-N(E6)/60,2)) -> 8.5 | G6: =IF(F6="","",MAX(0,ROUND(F6-$B$3,2))) -> 0.5 | H6: Ejemplo: borra o sustituye esta fila
F7: =IF(OR(C7="",D7=""),"",ROUND(MOD(D7-C7,1)*24-N(E7)/60,2)) | G7: =IF(F7="","",MAX(0,ROUND(F7-$B$3,2)))
F8: =IF(OR(C8="",D8=""),"",ROUND(MOD(D8-C8,1)*24-N(E8)/60,2)) | G8: =IF(F8="","",MAX(0,ROUND(F8-$B$3,2)))
F9: =IF(OR(C9="",D9=""),"",ROUND(MOD(D9-C9,1)*24-N(E9)/60,2)) | G9: =IF(F9="","",MAX(0,ROUND(F9-$B$3,2)))
F10: =IF(OR(C10="",D10=""),"",ROUND(MOD(D10-C10,1)*24-N(E10)/60,2)) | G10: =IF(F10="","",MAX(0,ROUND(F10-$B$3,2)))
F11: =IF(OR(C11="",D11=""),"",ROUND(MOD(D11-C11,1)*24-N(E11)/60,2)) | G11: =IF(F11="","",MAX(0,ROUND(F11-$B$3,2)))
F12: =IF(OR(C12="",D12=""),"",ROUND(MOD(D12-C12,1)*24-N(E12)/60,2)) | G12: =IF(F12="","",MAX(0,ROUND(F12-$B$3,2)))
F13: =IF(OR(C13="",D13=""),"",ROUND(MOD(D13-C13,1)*24-N(E13)/60,2)) | G13: =IF(F13="","",MAX(0,ROUND(F13-$B$3,2)))
F14: =IF(OR(C14="",D14=""),"",ROUND(MOD(D14-C14,1)*24-N(E14)/60,2)) | G14: =IF(F14="","",MAX(0,ROUND(F14-$B$3,2)))
F15: =IF(OR(C15="",D15=""),"",ROUND(MOD(D15-C15,1)*24-N(E15)/60,2)) | G15: =IF(F15="","",MAX(0,ROUND(F15-$B$3,2)))
F16: =IF(OR(C16="",D16=""),"",ROUND(MOD(D16-C16,1)*24-N(E16)/60,2)) | G16: =IF(F16="","",MAX(0,ROUND(F16-$B$3,2)))
F17: =IF(OR(C17="",D17=""),"",ROUND(MOD(D17-C17,1)*24-N(E17)/60,2)) | G17: =IF(F17="","",MAX(0,ROUND(F17-$B$3,2)))
F18: =IF(OR(C18="",D18=""),"",ROUND(MOD(D18-C18,1)*24-N(E18)/60,2)) | G18: =IF(F18="","",MAX(0,ROUND(F18-$B$3,2)))
... F505: =IF(OR(C505="",D505=""),"",ROUND(MOD(D505-C505,1)*24-N(E505)/60,2)) | G505: =IF(F505="","",MAX(0,ROUND(F505-$B$3,2)))

Sheet Resumen
A1: Resumen por empleado
A2: Escribe aquí los nombres tal y como aparecen en la hoja Registro. Los totales suman todas las filas de Registro.
A4: Empleado | B4: Días con registro | C4: Horas trabajadas | D4: Horas sobre jornada pactada
A5: Nombre Apellido (ejemplo) | B5: =IF(A5="","",COUNTIFS(Registro!$B$6:$B$505,A5,Registro!$F$6:$F$505,">0")) -> 1 | C5: =IF(A5="","",SUMIF(Registro!$B$6:$B$505,A5,Registro!$F$6:$F$505)) -> 8.5 | D5: =IF(A5="","",SUMIF(Registro!$B$6:$B$505,A5,Registro!$G$6:$G$505)) -> 0.5
B6: =IF(A6="","",COUNTIFS(Registro!$B$6:$B$505,A6,Registro!$F$6:$F$505,">0")) | C6: =IF(A6="","",SUMIF(Registro!$B$6:$B$505,A6,Registro!$F$6:$F$505)) | D6: =IF(A6="","",SUMIF(Registro!$B$6:$B$505,A6,Registro!$G$6:$G$505))
B7: =IF(A7="","",COUNTIFS(Registro!$B$6:$B$505,A7,Registro!$F$6:$F$505,">0")) | C7: =IF(A7="","",SUMIF(Registro!$B$6:$B$505,A7,Registro!$F$6:$F$505)) | D7: =IF(A7="","",SUMIF(Registro!$B$6:$B$505,A7,Registro!$G$6:$G$505))
B8: =IF(A8="","",COUNTIFS(Registro!$B$6:$B$505,A8,Registro!$F$6:$F$505,">0")) | C8: =IF(A8="","",SUMIF(Registro!$B$6:$B$505,A8,Registro!$F$6:$F$505)) | D8: =IF(A8="","",SUMIF(Registro!$B$6:$B$505,A8,Registro!$G$6:$G$505))
B9: =IF(A9="","",COUNTIFS(Registro!$B$6:$B$505,A9,Registro!$F$6:$F$505,">0")) | C9: =IF(A9="","",SUMIF(Registro!$B$6:$B$505,A9,Registro!$F$6:$F$505)) | D9: =IF(A9="","",SUMIF(Registro!$B$6:$B$505,A9,Registro!$G$6:$G$505))
B10: =IF(A10="","",COUNTIFS(Registro!$B$6:$B$505,A10,Registro!$F$6:$F$505,">0")) | C10: =IF(A10="","",SUMIF(Registro!$B$6:$B$505,A10,Registro!$F$6:$F$505)) | D10: =IF(A10="","",SUMIF(Registro!$B$6:$B$505,A10,Registro!$G$6:$G$505))
B11: =IF(A11="","",COUNTIFS(Registro!$B$6:$B$505,A11,Registro!$F$6:$F$505,">0")) | C11: =IF(A11="","",SUMIF(Registro!$B$6:$B$505,A11,Registro!$F$6:$F$505)) | D11: =IF(A11="","",SUMIF(Registro!$B$6:$B$505,A11,Registro!$G$6:$G$505))
B12: =IF(A12="","",COUNTIFS(Registro!$B$6:$B$505,A12,Registro!$F$6:$F$505,">0")) | C12: =IF(A12="","",SUMIF(Registro!$B$6:$B$505,A12,Registro!$F$6:$F$505)) | D12: =IF(A12="","",SUMIF(Registro!$B$6:$B$505,A12,Registro!$G$6:$G$505))
B13: =IF(A13="","",COUNTIFS(Registro!$B$6:$B$505,A13,Registro!$F$6:$F$505,">0")) | C13: =IF(A13="","",SUMIF(Registro!$B$6:$B$505,A13,Registro!$F$6:$F$505)) | D13: =IF(A13="","",SUMIF(Registro!$B$6:$B$505,A13,Registro!$G$6:$G$505))
B14: =IF(A14="","",COUNTIFS(Registro!$B$6:$B$505,A14,Registro!$F$6:$F$505,">0")) | C14: =IF(A14="","",SUMIF(Registro!$B$6:$B$505,A14,Registro!$F$6:$F$505)) | D14: =IF(A14="","",SUMIF(Registro!$B$6:$B$505,A14,Registro!$G$6:$G$505))
B15: =IF(A15="","",COUNTIFS(Registro!$B$6:$B$505,A15,Registro!$F$6:$F$505,">0")) | C15: =IF(A15="","",SUMIF(Registro!$B$6:$B$505,A15,Registro!$F$6:$F$505)) | D15: =IF(A15="","",SUMIF(Registro!$B$6:$B$505,A15,Registro!$G$6:$G$505))
B16: =IF(A16="","",COUNTIFS(Registro!$B$6:$B$505,A16,Registro!$F$6:$F$505,">0")) | C16: =IF(A16="","",SUMIF(Registro!$B$6:$B$505,A16,Registro!$F$6:$F$505)) | D16: =IF(A16="","",SUMIF(Registro!$B$6:$B$505,A16,Registro!$G$6:$G$505))
B17: =IF(A17="","",COUNTIFS(Registro!$B$6:$B$505,A17,Registro!$F$6:$F$505,">0")) | C17: =IF(A17="","",SUMIF(Registro!$B$6:$B$505,A17,Registro!$F$6:$F$505)) | D17: =IF(A17="","",SUMIF(Registro!$B$6:$B$505,A17,Registro!$G$6:$G$505))
... B34: =IF(A34="","",COUNTIFS(Registro!$B$6:$B$505,A34,Registro!$F$6:$F$505,">0")) | C34: =IF(A34="","",SUMIF(Registro!$B$6:$B$505,A34,Registro!$F$6:$F$505)) | D34: =IF(A34="","",SUMIF(Registro!$B$6:$B$505,A34,Registro!$G$6:$G$505))
A35: TOTAL | B35: =SUM(B5:B34) -> 1 | C35: =SUM(C5:C34) -> 8.5 | D35: =SUM(D5:D34) -> 0.5
